BEGIN:VCALENDAR
VERSION:2.0
PRODID:-//Dom Kultury Słowianin w Szczecinie - ECPv6.15.15//NONSGML v1.0//EN
CALSCALE:GREGORIAN
METHOD:PUBLISH
X-WR-CALNAME:Dom Kultury Słowianin w Szczecinie
X-ORIGINAL-URL:https://slowianin.org
X-WR-CALDESC:Wydarzenia dla Dom Kultury Słowianin w Szczecinie
REFRESH-INTERVAL;VALUE=DURATION:PT1H
X-Robots-Tag:noindex
X-PUBLISHED-TTL:PT1H
BEGIN:VTIMEZONE
TZID:Europe/Warsaw
BEGIN:DAYLIGHT
TZOFFSETFROM:+0100
TZOFFSETTO:+0200
TZNAME:CEST
DTSTART:20250330T010000
END:DAYLIGHT
BEGIN:STANDARD
TZOFFSETFROM:+0200
TZOFFSETTO:+0100
TZNAME:CET
DTSTART:20251026T010000
END:STANDARD
BEGIN:DAYLIGHT
TZOFFSETFROM:+0100
TZOFFSETTO:+0200
TZNAME:CEST
DTSTART:20260329T010000
END:DAYLIGHT
BEGIN:STANDARD
TZOFFSETFROM:+0200
TZOFFSETTO:+0100
TZNAME:CET
DTSTART:20261025T010000
END:STANDARD
BEGIN:DAYLIGHT
TZOFFSETFROM:+0100
TZOFFSETTO:+0200
TZNAME:CEST
DTSTART:20270328T010000
END:DAYLIGHT
BEGIN:STANDARD
TZOFFSETFROM:+0200
TZOFFSETTO:+0100
TZNAME:CET
DTSTART:20271031T010000
END:STANDARD
END:VTIMEZONE
BEGIN:VEVENT
DTSTART;TZID=Europe/Warsaw:20260125T110000
DTEND;TZID=Europe/Warsaw:20260125T110000
DTSTAMP:20260424T030519
CREATED:20260108T143008Z
LAST-MODIFIED:20260120T161326Z
UID:13366-1769338800-1769338800@slowianin.org
SUMMARY:34. FINAŁ WOŚP
DESCRIPTION:Niedziela | 25 stycznia 2026 Sztab #7028 – wzorem lat ubiegłych – zaprasza na 34. Finał Wielkiej Orkiestry Świątecznej Pomocy\, który zagramy w dwóch miejscach: Dom Kultury Słowianin oraz Nowa Dekadencja. W DK Słowianin przez cały dzień czekać na Was będą występy artystyczne\, animacje\, liczne licytacje przeplatające program wydarzenia oraz koncerty zespołów: Abolicja\, Godbite\, Lota oraz Zament.   O co gramy?Podczas 34. Finału WOŚP gramy dla najmłodszych pacjentów.Cel: diagnostyka i leczenie chorób przewodu pokarmowego u dzieci.Hasło Finału: „Zdrowe brzuszki naszych dzieci”.   								\n				\n					\n				\n		\n					\n				\n				\n									HARMONOGRAM 11:00 Chór Polka 11:30 Wiśniowy Urwis (animacje) 12:00 Dance Factory 12:30 Indiana Wons 13:00 ZPiT ZS Krąg + La Bomba 13:30 Szkoła tańca SUKCES 16:00 Abolicja (koncert) 17:00 Zament (koncert) 18:00 Godbite (koncert) 19:00 LOTA (koncert) 20:00 Światełko do nieba + licytacje\, wata cukrowa\, popcorn\, strefa pierwszej pomocy\, kiermasz słodkości\, grochówka   Zarezerwujcie ten dzień i bądźcie z nami. Gramy razem\, bo razem możemy więcej.
URL:https://slowianin.org/event/34-final-wosp/
LOCATION:Dom Kultury Słowianin\, ul.Korzeniowskiego 7\, Szczecin\, zachodniopomorskie\, 70-211\, Poland
CATEGORIES:Template Wydarzenia
ATTACH;FMTTYPE=image/jpeg:https://slowianin.org/wp-content/uploads/2026/01/WOSP-www.jpg
END:VEVENT
END:VCALENDAR